BEGIN:VCALENDAR
VERSION:2.0
PRODID:-//Jeugdorkest De Stefaantjes Nijmegen - ECPv6.15.20//NONSGML v1.0//EN
CALSCALE:GREGORIAN
METHOD:PUBLISH
X-WR-CALNAME:Jeugdorkest De Stefaantjes Nijmegen
X-ORIGINAL-URL:https://destefaantjes.nl
X-WR-CALDESC:Evenementen voor Jeugdorkest De Stefaantjes Nijmegen
REFRESH-INTERVAL;VALUE=DURATION:PT1H
X-Robots-Tag:noindex
X-PUBLISHED-TTL:PT1H
BEGIN:VTIMEZONE
TZID:Europe/Amsterdam
BEGIN:DAYLIGHT
TZOFFSETFROM:+0100
TZOFFSETTO:+0200
TZNAME:CEST
DTSTART:20250330T010000
END:DAYLIGHT
BEGIN:STANDARD
TZOFFSETFROM:+0200
TZOFFSETTO:+0100
TZNAME:CET
DTSTART:20251026T010000
END:STANDARD
BEGIN:DAYLIGHT
TZOFFSETFROM:+0100
TZOFFSETTO:+0200
TZNAME:CEST
DTSTART:20260329T010000
END:DAYLIGHT
BEGIN:STANDARD
TZOFFSETFROM:+0200
TZOFFSETTO:+0100
TZNAME:CET
DTSTART:20261025T010000
END:STANDARD
BEGIN:DAYLIGHT
TZOFFSETFROM:+0100
TZOFFSETTO:+0200
TZNAME:CEST
DTSTART:20270328T010000
END:DAYLIGHT
BEGIN:STANDARD
TZOFFSETFROM:+0200
TZOFFSETTO:+0100
TZNAME:CET
DTSTART:20271031T010000
END:STANDARD
END:VTIMEZONE
BEGIN:VEVENT
DTSTART;TZID=Europe/Amsterdam:20260607T150000
DTEND;TZID=Europe/Amsterdam:20260607T180000
DTSTAMP:20260420T080047
CREATED:20250826T170905Z
LAST-MODIFIED:20260321T093717Z
UID:3987-1780844400-1780855200@destefaantjes.nl
SUMMARY:Nijmegen Klinkt!
DESCRIPTION:We zullen optreden tijdens Nijmegen Klinkt!. Meer informatie wordt later bekend. Kom jij ook kijken? \nVoor meer informatie: https://nijmegenklinkt.nl/
URL:https://destefaantjes.nl/event/nijmegen-klinkt/
LOCATION:De Lindenberg\, Ridderstraat 23\, Nijmegen\, Gelderland\, 6500 AN\, Netherlands
CATEGORIES:Optreden
END:VEVENT
BEGIN:VEVENT
DTSTART;TZID=Europe/Amsterdam:20260704T113000
DTEND;TZID=Europe/Amsterdam:20260704T133000
DTSTAMP:20260420T080047
CREATED:20250826T171002Z
LAST-MODIFIED:20250826T171002Z
UID:3989-1783164600-1783171800@destefaantjes.nl
SUMMARY:Zomerconcert
DESCRIPTION:Kom jij ook kijken?
URL:https://destefaantjes.nl/event/zomerconcert/
LOCATION:SSgN\, Ijsbeerstraat 12\, Nijmegen\, Gelderland\, 6531 PL\, Netherlands
CATEGORIES:Optreden
END:VEVENT
END:VCALENDAR