BEGIN:VCALENDAR
VERSION:2.0
PRODID:-//Jeugdorkest De Stefaantjes Nijmegen - ECPv6.15.20//NONSGML v1.0//EN
CALSCALE:GREGORIAN
METHOD:PUBLISH
X-WR-CALNAME:Jeugdorkest De Stefaantjes Nijmegen
X-ORIGINAL-URL:https://destefaantjes.nl
X-WR-CALDESC:Evenementen voor Jeugdorkest De Stefaantjes Nijmegen
REFRESH-INTERVAL;VALUE=DURATION:PT1H
X-Robots-Tag:noindex
X-PUBLISHED-TTL:PT1H
BEGIN:VTIMEZONE
TZID:Europe/Amsterdam
BEGIN:DAYLIGHT
TZOFFSETFROM:+0100
TZOFFSETTO:+0200
TZNAME:CEST
DTSTART:20240331T010000
END:DAYLIGHT
BEGIN:STANDARD
TZOFFSETFROM:+0200
TZOFFSETTO:+0100
TZNAME:CET
DTSTART:20241027T010000
END:STANDARD
BEGIN:DAYLIGHT
TZOFFSETFROM:+0100
TZOFFSETTO:+0200
TZNAME:CEST
DTSTART:20250330T010000
END:DAYLIGHT
BEGIN:STANDARD
TZOFFSETFROM:+0200
TZOFFSETTO:+0100
TZNAME:CET
DTSTART:20251026T010000
END:STANDARD
BEGIN:DAYLIGHT
TZOFFSETFROM:+0100
TZOFFSETTO:+0200
TZNAME:CEST
DTSTART:20260329T010000
END:DAYLIGHT
BEGIN:STANDARD
TZOFFSETFROM:+0200
TZOFFSETTO:+0100
TZNAME:CET
DTSTART:20261025T010000
END:STANDARD
END:VTIMEZONE
BEGIN:VEVENT
DTSTART;TZID=Europe/Amsterdam:20250322T090000
DTEND;TZID=Europe/Amsterdam:20250322T120000
DTSTAMP:20260421T203001
CREATED:20250826T141014Z
LAST-MODIFIED:20250826T141014Z
UID:3973-1742634000-1742644800@destefaantjes.nl
SUMMARY:Koningsdag optreden
DESCRIPTION:
URL:https://destefaantjes.nl/event/koningsdag-optreden/
LOCATION:Gelderland
CATEGORIES:Optreden
END:VEVENT
BEGIN:VEVENT
DTSTART;TZID=Europe/Amsterdam:20250322T120000
DTEND;TZID=Europe/Amsterdam:20250322T160000
DTSTAMP:20260421T203001
CREATED:20250826T141014Z
LAST-MODIFIED:20250826T141014Z
UID:3972-1742644800-1742659200@destefaantjes.nl
SUMMARY:Podium voor de Stad
DESCRIPTION:
URL:https://destefaantjes.nl/event/podium-voor-de-stad/
LOCATION:Gelderland
CATEGORIES:Optreden
END:VEVENT
END:VCALENDAR