BEGIN:VCALENDAR
VERSION:2.0
PRODID:-//Jeugdorkest De Stefaantjes Nijmegen - ECPv6.15.20//NONSGML v1.0//EN
CALSCALE:GREGORIAN
METHOD:PUBLISH
X-WR-CALNAME:Jeugdorkest De Stefaantjes Nijmegen
X-ORIGINAL-URL:https://destefaantjes.nl
X-WR-CALDESC:Evenementen voor Jeugdorkest De Stefaantjes Nijmegen
REFRESH-INTERVAL;VALUE=DURATION:PT1H
X-Robots-Tag:noindex
X-PUBLISHED-TTL:PT1H
BEGIN:VTIMEZONE
TZID:Europe/Amsterdam
BEGIN:DAYLIGHT
TZOFFSETFROM:+0100
TZOFFSETTO:+0200
TZNAME:CEST
DTSTART:20240331T010000
END:DAYLIGHT
BEGIN:STANDARD
TZOFFSETFROM:+0200
TZOFFSETTO:+0100
TZNAME:CET
DTSTART:20241027T010000
END:STANDARD
BEGIN:DAYLIGHT
TZOFFSETFROM:+0100
TZOFFSETTO:+0200
TZNAME:CEST
DTSTART:20250330T010000
END:DAYLIGHT
BEGIN:STANDARD
TZOFFSETFROM:+0200
TZOFFSETTO:+0100
TZNAME:CET
DTSTART:20251026T010000
END:STANDARD
BEGIN:DAYLIGHT
TZOFFSETFROM:+0100
TZOFFSETTO:+0200
TZNAME:CEST
DTSTART:20260329T010000
END:DAYLIGHT
BEGIN:STANDARD
TZOFFSETFROM:+0200
TZOFFSETTO:+0100
TZNAME:CET
DTSTART:20261025T010000
END:STANDARD
END:VTIMEZONE
BEGIN:VEVENT
DTSTART;TZID=Europe/Amsterdam:20250215T110000
DTEND;TZID=Europe/Amsterdam:20250215T130000
DTSTAMP:20260421T233003
CREATED:20240906T201950Z
LAST-MODIFIED:20250826T140959Z
UID:3737-1739617200-1739624400@destefaantjes.nl
SUMMARY:Evaluatie
DESCRIPTION:We horen graag de mening van onze leden. Dit doen we tijdens een jaarlijkse evaluatie. We sluiten af met een gezamenlijke lunch.
URL:https://destefaantjes.nl/event/evaluatie/
LOCATION:SSgN\, Ijsbeerstraat 12\, Nijmegen\, Gelderland\, 6531 PL\, Netherlands
CATEGORIES:Activiteit (alleen leden)
END:VEVENT
END:VCALENDAR